BEGIN:VCALENDAR
VERSION:2.0
PRODID:-//Bureau of Justice Assistance//NONSGML Event Calendar//EN
BEGIN:VEVENT
UID:8c264e38-342f-4dd9-9941-ed80bb28dd6b
DTSTART;TZID=UTC:20210810T190000
SEQUENCE:0
TRANSP:OPAQUE
DTEND;TZID=UTC:20210810T203000
LOCATION:https://www.bja.ojp.gov/events/financing-and-sustaining-medication
 s-opioid-use-disorder-programs-jails-and-prisons-lessons
SUMMARY:Financing and Sustaining Medications for Opioid Use Disorder Progra
 ms in Jails and Prisons—Lessons from the Field
CLASS:PUBLIC
DESCRIPTION:Learn more about this event: https://www.bja.ojp.gov/events/fin
 ancing-and-sustaining-medications-opioid-use-disorder-programs-jails-and-p
 risons-lessons
DTSTAMP:20260422T183206Z
END:VEVENT
END:VCALENDAR