BEGIN:VCALENDAR
VERSION:2.0
PRODID:-//Bureau of Justice Assistance//NONSGML Event Calendar//EN
BEGIN:VEVENT
UID:030bbfd1-900f-4625-8e0b-94b225d41d68
DTSTART;TZID=UTC:20210902T140000
SEQUENCE:0
TRANSP:OPAQUE
DTEND;TZID=UTC:20210902T190000
LOCATION:https://www.bja.ojp.gov/events/safleo-line-officer-virtual-trainin
 g
SUMMARY:SAFLEO Line Officer Virtual Training
CLASS:PUBLIC
DESCRIPTION:Learn more about this event: https://www.bja.ojp.gov/events/saf
 leo-line-officer-virtual-training
DTSTAMP:20260423T003624Z
END:VEVENT
END:VCALENDAR