BEGIN:VCALENDAR
VERSION:2.0
PRODID:-//Bureau of Justice Assistance//NONSGML Event Calendar//EN
BEGIN:VEVENT
UID:a65b8fa9-2c50-4912-8b4f-a77a429a5537
DTSTART;TZID=UTC:20210909T180000
SEQUENCE:0
TRANSP:OPAQUE
DTEND;TZID=UTC:20210909T190000
LOCATION:https://www.bja.ojp.gov/events/state-efforts-address-substance-use
 -disorder-treatment-needs-individuals-community
SUMMARY:State Efforts to Address Substance Use Disorder Treatment Needs for
  Individuals on Community Supervision
CLASS:PUBLIC
DESCRIPTION:Learn more about this event: https://www.bja.ojp.gov/events/sta
 te-efforts-address-substance-use-disorder-treatment-needs-individuals-comm
 unity
DTSTAMP:20260420T075818Z
END:VEVENT
END:VCALENDAR