BEGIN:VCALENDAR
VERSION:2.0
PRODID:-//Bureau of Justice Assistance//NONSGML Event Calendar//EN
BEGIN:VEVENT
UID:b72fb1c8-5be5-4bc8-a735-104e77ab54c9
DTSTART;TZID=UTC:20210929T180000
SEQUENCE:0
TRANSP:OPAQUE
DTEND;TZID=UTC:20210929T190000
LOCATION:https://www.bja.ojp.gov/events/supporting-continuity-care-througho
 ut-justice-involvement-supporting-jail-reach-community
SUMMARY:Supporting Continuity of Care throughout Justice Involvement: Suppo
 rting Jail In-reach by Community-based Treatment Providers
CLASS:PUBLIC
DESCRIPTION:Learn more about this event: https://www.bja.ojp.gov/events/sup
 porting-continuity-care-throughout-justice-involvement-supporting-jail-rea
 ch-community
DTSTAMP:20260422T214909Z
END:VEVENT
END:VCALENDAR