BEGIN:VCALENDAR
VERSION:2.0
PRODID:-//Bureau of Justice Assistance//NONSGML Event Calendar//EN
BEGIN:VEVENT
UID:ae18da41-fa3e-4785-9a56-8d64e3933d8b
DTSTART;TZID=UTC:20210907T180000
SEQUENCE:0
TRANSP:OPAQUE
DTEND;TZID=UTC:20210907T190000
LOCATION:https://www.bja.ojp.gov/events/supporting-continuity-care-througho
 ut-justice-involvement-initiating-and-maintaining
SUMMARY:Supporting Continuity of Care throughout Justice Involvement: Initi
 ating and Maintaining Treatment upon Entry into Jail
CLASS:PUBLIC
DESCRIPTION:Learn more about this event: https://www.bja.ojp.gov/events/sup
 porting-continuity-care-throughout-justice-involvement-initiating-and-main
 taining
DTSTAMP:20260422T214915Z
END:VEVENT
END:VCALENDAR