BEGIN:VCALENDAR
VERSION:2.0
PRODID:-//Bureau of Justice Assistance//NONSGML Event Calendar//EN
BEGIN:VEVENT
UID:5b604f37-8f6c-4dca-a255-34434a9cd70a
DTSTART;TZID=UTC:20210907T170000
SEQUENCE:0
TRANSP:OPAQUE
DTEND;TZID=UTC:20210907T183000
LOCATION:https://www.bja.ojp.gov/events/prosecutor-led-diversion-programs-r
 oundtable-discussion
SUMMARY:Prosecutor-Led Diversion Programs: Roundtable Discussion
CLASS:PUBLIC
DESCRIPTION:Learn more about this event: https://www.bja.ojp.gov/events/pro
 secutor-led-diversion-programs-roundtable-discussion
DTSTAMP:20260420T092533Z
END:VEVENT
END:VCALENDAR