BEGIN:VCALENDAR
VERSION:2.0
PRODID:-//Bureau of Justice Assistance//NONSGML Event Calendar//EN
BEGIN:VEVENT
UID:2c9bb414-b556-4b34-9bec-a66485aec18f
DTSTART;TZID=UTC:20210916T180000
SEQUENCE:0
TRANSP:OPAQUE
DTEND;TZID=UTC:20210916T193000
LOCATION:https://www.bja.ojp.gov/events/improving-services-victims-violence
 -homicide-support-group
SUMMARY:Improving Services for Victims of Violence: The Homicide Support Gr
 oup
CLASS:PUBLIC
DESCRIPTION:Learn more about this event: https://www.bja.ojp.gov/events/imp
 roving-services-victims-violence-homicide-support-group
DTSTAMP:20260423T004354Z
END:VEVENT
END:VCALENDAR