BEGIN:VCALENDAR
VERSION:2.0
PRODID:-//Bureau of Justice Assistance//NONSGML Event Calendar//EN
BEGIN:VEVENT
UID:d304cd53-96e1-4a7a-b45d-574ad05938df
DTSTART;TZID=UTC:20210913T190000
SEQUENCE:0
TRANSP:OPAQUE
DTEND;TZID=UTC:20210913T200000
LOCATION:https://www.bja.ojp.gov/events/northern-middle-states-rural-law-en
 forcement-training-technical-assistance-grant-program-0
SUMMARY:Northern & Middle States Rural Law Enforcement Training & Technical
  Assistance Grant Program
CLASS:PUBLIC
DESCRIPTION:Learn more about this event: https://www.bja.ojp.gov/events/nor
 thern-middle-states-rural-law-enforcement-training-technical-assistance-gr
 ant-program-0
DTSTAMP:20260422T195542Z
END:VEVENT
END:VCALENDAR