BEGIN:VCALENDAR
VERSION:2.0
PRODID:-//Bureau of Justice Assistance//NONSGML Event Calendar//EN
BEGIN:VEVENT
UID:7ab7070e-fd77-4905-8314-c9d48f76914c
DTSTART;TZID=UTC:20211129T180000
SEQUENCE:0
TRANSP:OPAQUE
DTEND;TZID=UTC:20211129T193000
LOCATION:https://www.bja.ojp.gov/events/multilevel-evaluation-project-safe-
 neighborhoods
SUMMARY:Multilevel Evaluation of Project Safe Neighborhoods
CLASS:PUBLIC
DESCRIPTION:Learn more about this event: https://www.bja.ojp.gov/events/mul
 tilevel-evaluation-project-safe-neighborhoods
DTSTAMP:20260422T212406Z
END:VEVENT
END:VCALENDAR