BEGIN:VCALENDAR
VERSION:2.0
PRODID:-//Bureau of Justice Assistance//NONSGML Event Calendar//EN
BEGIN:VEVENT
UID:b855a023-0e50-416f-9c8d-f24976d93fb4
DTSTART;TZID=UTC:20211028T180000
SEQUENCE:0
TRANSP:OPAQUE
DTEND;TZID=UTC:20211028T190000
LOCATION:https://www.bja.ojp.gov/events/justgrants-virtual-qa-award-accepta
 nce-1
SUMMARY:JustGrants Virtual Q&A: Award Acceptance
CLASS:PUBLIC
DESCRIPTION:Learn more about this event: https://www.bja.ojp.gov/events/jus
 tgrants-virtual-qa-award-acceptance-1
DTSTAMP:20260420T070405Z
END:VEVENT
END:VCALENDAR