BEGIN:VCALENDAR
VERSION:2.0
PRODID:-//Bureau of Justice Assistance//NONSGML Event Calendar//EN
BEGIN:VEVENT
UID:8ccda18c-b223-4a53-8f48-83889511f5ca
DTSTART;TZID=UTC:20211013T200000
SEQUENCE:0
TRANSP:OPAQUE
DTEND;TZID=UTC:20211013T210000
LOCATION:https://www.bja.ojp.gov/events/justgrants-virtual-qa-award-accepta
 nce
SUMMARY:JustGrants Virtual Q&A: Award Acceptance
CLASS:PUBLIC
DESCRIPTION:Learn more about this event: https://www.bja.ojp.gov/events/jus
 tgrants-virtual-qa-award-acceptance
DTSTAMP:20260420T070404Z
END:VEVENT
END:VCALENDAR