BEGIN:VCALENDAR
VERSION:2.0
PRODID:-//Bureau of Justice Assistance//NONSGML Event Calendar//EN
BEGIN:VEVENT
UID:078d83a5-1438-4fcd-a5e1-d32deac38d27
DTSTART;TZID=UTC:20211110T173000
SEQUENCE:0
TRANSP:OPAQUE
DTEND;TZID=UTC:20211110T193000
LOCATION:https://www.bja.ojp.gov/events/supported-employment-se-services-in
 corporating-se-reentry-planning
SUMMARY:Supported Employment (SE) Services: Incorporating SE into Reentry P
 lanning
CLASS:PUBLIC
DESCRIPTION:Learn more about this event: https://www.bja.ojp.gov/events/sup
 ported-employment-se-services-incorporating-se-reentry-planning
DTSTAMP:20260423T054755Z
END:VEVENT
END:VCALENDAR