BEGIN:VCALENDAR
VERSION:2.0
PRODID:-//Bureau of Justice Assistance//NONSGML Event Calendar//EN
BEGIN:VEVENT
UID:26ebb360-d25e-4297-a7b0-67d1b047221d
DTSTART;VALUE=DATE:20211115
SEQUENCE:0
TRANSP:OPAQUE
DTEND;VALUE=DATE:20211215
LOCATION:https://www.bja.ojp.gov/events/valor-survive-thrive-fundamentals
SUMMARY:VALOR Survive & Thrive: Fundamentals
CLASS:PUBLIC
DESCRIPTION:Learn more about this event: https://www.bja.ojp.gov/events/val
 or-survive-thrive-fundamentals
X-MICROSOFT-CDO-ALLDAYEVENT:TRUE
DTSTAMP:20260423T014358Z
END:VEVENT
END:VCALENDAR