BEGIN:VCALENDAR
VERSION:2.0
PRODID:-//Bureau of Justice Assistance//NONSGML Event Calendar//EN
BEGIN:VEVENT
UID:2e7839ff-7ae4-4af9-8bcd-5b93faf19c36
DTSTART;TZID=UTC:20211130T190000
SEQUENCE:0
TRANSP:OPAQUE
DTEND;TZID=UTC:20211130T210000
LOCATION:https://www.bja.ojp.gov/events/valor-casualty-care-and-rescue-tact
 ics-virtual-course
SUMMARY:VALOR Casualty Care and Rescue Tactics
CLASS:PUBLIC
DESCRIPTION:Learn more about this event: https://www.bja.ojp.gov/events/val
 or-casualty-care-and-rescue-tactics-virtual-course
DTSTAMP:20260423T014449Z
END:VEVENT
END:VCALENDAR