BEGIN:VCALENDAR
VERSION:2.0
PRODID:-//Bureau of Justice Assistance//NONSGML Event Calendar//EN
BEGIN:VEVENT
UID:16e84dee-c018-4be9-8534-f6fb3ee24f9a
DTSTART;TZID=UTC:20211109T150000
SEQUENCE:0
TRANSP:OPAQUE
DTEND;TZID=UTC:20211109T200000
LOCATION:https://www.bja.ojp.gov/events/safleo-virtual-leadership-and-super
 vision-training
SUMMARY:SAFLEO Virtual Leadership and Supervision Training
CLASS:PUBLIC
DESCRIPTION:Learn more about this event: https://www.bja.ojp.gov/events/saf
 leo-virtual-leadership-and-supervision-training
DTSTAMP:20260423T013823Z
END:VEVENT
END:VCALENDAR