BEGIN:VCALENDAR
VERSION:2.0
PRODID:-//Bureau of Justice Assistance//NONSGML Event Calendar//EN
BEGIN:VEVENT
UID:abe646e5-614f-412f-a833-9110d7db1cf5
DTSTART;TZID=UTC:20211201T180000
SEQUENCE:0
TRANSP:OPAQUE
DTEND;TZID=UTC:20211202T221500
LOCATION:https://www.bja.ojp.gov/events/accessing-grants-strengthen-tribal-
 justice-system-capacity-online-workshop
SUMMARY:Accessing Grants to Strengthen Tribal Justice System Capacity Onlin
 e Workshop
CLASS:PUBLIC
DESCRIPTION:Learn more about this event: https://www.bja.ojp.gov/events/acc
 essing-grants-strengthen-tribal-justice-system-capacity-online-workshop
DTSTAMP:20260422T214915Z
END:VEVENT
END:VCALENDAR