BEGIN:VCALENDAR
VERSION:2.0
PRODID:-//Bureau of Justice Assistance//NONSGML Event Calendar//EN
BEGIN:VEVENT
UID:7c763e46-f7a0-4bde-9a7b-4af399e7517b
DTSTART;TZID=UTC:20211209T190000
SEQUENCE:0
TRANSP:OPAQUE
DTEND;TZID=UTC:20211209T200000
LOCATION:https://www.bja.ojp.gov/events/justgrants-virtual-qa-award-accepta
 nce-4
SUMMARY:JustGrants Virtual Q&A: Award Acceptance
CLASS:PUBLIC
DESCRIPTION:Learn more about this event: https://www.bja.ojp.gov/events/jus
 tgrants-virtual-qa-award-acceptance-4
DTSTAMP:20260420T070249Z
END:VEVENT
END:VCALENDAR