BEGIN:VCALENDAR
VERSION:2.0
PRODID:-//Bureau of Justice Assistance//NONSGML Event Calendar//EN
BEGIN:VEVENT
UID:f0e28656-f112-4ebe-b08b-1c6ce30b0e41
DTSTART;TZID=UTC:20211223T190000
SEQUENCE:0
TRANSP:OPAQUE
DTEND;TZID=UTC:20211223T200000
LOCATION:https://www.bja.ojp.gov/events/justgrants-virtual-qa-award-accepta
 nce-7
SUMMARY:JustGrants Virtual Q&A: Award Acceptance
CLASS:PUBLIC
DESCRIPTION:Learn more about this event: https://www.bja.ojp.gov/events/jus
 tgrants-virtual-qa-award-acceptance-7
DTSTAMP:20260420T070235Z
END:VEVENT
END:VCALENDAR