BEGIN:VCALENDAR
VERSION:2.0
PRODID:-//Bureau of Justice Assistance//NONSGML Event Calendar//EN
BEGIN:VEVENT
UID:dca3c43f-054b-4d4e-8c6a-bd4222ad7643
DTSTART;TZID=UTC:20211213T180000
SEQUENCE:0
TRANSP:OPAQUE
DTEND;TZID=UTC:20211213T193000
LOCATION:https://www.bja.ojp.gov/events/justgrants-virtual-qa-post-award-ma
 nagement-10
SUMMARY:JustGrants Virtual Q&A: Post-Award Management
CLASS:PUBLIC
DESCRIPTION:Learn more about this event: https://www.bja.ojp.gov/events/jus
 tgrants-virtual-qa-post-award-management-10
DTSTAMP:20260420T081952Z
END:VEVENT
END:VCALENDAR