BEGIN:VCALENDAR
VERSION:2.0
PRODID:-//Bureau of Justice Assistance//NONSGML Event Calendar//EN
BEGIN:VEVENT
UID:5a249724-2e36-44ac-be7e-9bb798f19604
DTSTART;TZID=UTC:20211216T190000
SEQUENCE:0
TRANSP:OPAQUE
DTEND;TZID=UTC:20211216T203000
LOCATION:https://www.bja.ojp.gov/events/veterans-justice-outreach
SUMMARY:Veterans Justice Outreach
CLASS:PUBLIC
DESCRIPTION:Learn more about this event: https://www.bja.ojp.gov/events/vet
 erans-justice-outreach
DTSTAMP:20260423T001428Z
END:VEVENT
END:VCALENDAR