BEGIN:VCALENDAR
VERSION:2.0
PRODID:-//Bureau of Justice Assistance//NONSGML Event Calendar//EN
BEGIN:VEVENT
UID:8f531653-cd4e-4443-b843-227d1f143345
DTSTART;TZID=UTC:20220112T180000
SEQUENCE:0
TRANSP:OPAQUE
DTEND;TZID=UTC:20220112T190000
LOCATION:https://www.bja.ojp.gov/events/fy-2022-coordinated-tribal-assistan
 ce-solicitation-justgrants-and-submitting-application
SUMMARY:FY 2022 Coordinated Tribal Assistance Solicitation - JustGrants and
  Submitting an Application
CLASS:PUBLIC
DESCRIPTION:Learn more about this event: https://www.bja.ojp.gov/events/fy-
 2022-coordinated-tribal-assistance-solicitation-justgrants-and-submitting-
 application
DTSTAMP:20260422T214741Z
END:VEVENT
END:VCALENDAR