BEGIN:VCALENDAR
VERSION:2.0
PRODID:-//Bureau of Justice Assistance//NONSGML Event Calendar//EN
BEGIN:VEVENT
UID:660dc504-2eaf-4989-9d74-fcc600e976e9
DTSTART;TZID=UTC:20220125T200000
SEQUENCE:0
TRANSP:OPAQUE
DTEND;TZID=UTC:20220125T210000
LOCATION:https://www.bja.ojp.gov/events/fy-2022-coordinated-tribal-assistan
 ce-solicitation-tips-successful-applications-alaska-and
SUMMARY:FY 2022 Coordinated Tribal Assistance Solicitation - Tips for Succe
 ssful Applications for Alaska and Rural Communities
CLASS:PUBLIC
DESCRIPTION:Learn more about this event: https://www.bja.ojp.gov/events/fy-
 2022-coordinated-tribal-assistance-solicitation-tips-successful-applicatio
 ns-alaska-and
DTSTAMP:20260422T183206Z
END:VEVENT
END:VCALENDAR