BEGIN:VCALENDAR
VERSION:2.0
PRODID:-//Bureau of Justice Assistance//NONSGML Event Calendar//EN
BEGIN:VEVENT
UID:9e00e620-6304-46fa-8e7d-17e31919d6b3
DTSTART;TZID=UTC:20220217T180000
SEQUENCE:0
TRANSP:OPAQUE
DTEND;TZID=UTC:20220217T190000
LOCATION:https://www.bja.ojp.gov/events/fy-2022-coordinated-tribal-assistan
 ce-solicitation-budget-worksheet-completion
SUMMARY:FY 2022 Coordinated Tribal Assistance Solicitation - Budget Workshe
 et Completion
CLASS:PUBLIC
DESCRIPTION:Learn more about this event: https://www.bja.ojp.gov/events/fy-
 2022-coordinated-tribal-assistance-solicitation-budget-worksheet-completio
 n
DTSTAMP:20260422T214908Z
END:VEVENT
END:VCALENDAR