BEGIN:VCALENDAR
VERSION:2.0
PRODID:-//Bureau of Justice Assistance//NONSGML Event Calendar//EN
BEGIN:VEVENT
UID:06d4e606-01dd-45d1-b4d0-7999817e8cb9
DTSTART;TZID=UTC:20220222T180000
SEQUENCE:0
TRANSP:OPAQUE
DTEND;TZID=UTC:20220222T190000
LOCATION:https://www.bja.ojp.gov/events/fy-2022-coordinated-tribal-assistan
 ce-solicitation-application-checklist-and-final-qa
SUMMARY:FY 2022 Coordinated Tribal Assistance Solicitation - Application Ch
 ecklist and Final Q&A
CLASS:PUBLIC
DESCRIPTION:Learn more about this event: https://www.bja.ojp.gov/events/fy-
 2022-coordinated-tribal-assistance-solicitation-application-checklist-and-
 final-qa
DTSTAMP:20260422T214934Z
END:VEVENT
END:VCALENDAR