BEGIN:VCALENDAR
VERSION:2.0
PRODID:-//Bureau of Justice Assistance//NONSGML Event Calendar//EN
BEGIN:VEVENT
UID:e3451781-8eb4-46e0-9756-828b1f21e892
DTSTART;TZID=UTC:20220118T190000
SEQUENCE:0
TRANSP:OPAQUE
DTEND;TZID=UTC:20220118T203000
LOCATION:https://www.bja.ojp.gov/events/serving-warrants-safer-path-forward
 -part-1
SUMMARY:Serving Warrants – A Safer Path Forward (Part 1)
CLASS:PUBLIC
DESCRIPTION:Learn more about this event: https://www.bja.ojp.gov/events/ser
 ving-warrants-safer-path-forward-part-1
DTSTAMP:20260423T023806Z
END:VEVENT
END:VCALENDAR