BEGIN:VCALENDAR
VERSION:2.0
PRODID:-//Bureau of Justice Assistance//NONSGML Event Calendar//EN
BEGIN:VEVENT
UID:ed5242c6-1bbe-4acd-a792-5addd7885643
DTSTART;TZID=UTC:20220125T160000
SEQUENCE:0
TRANSP:OPAQUE
DTEND;TZID=UTC:20220125T173000
LOCATION:https://www.bja.ojp.gov/events/fit-duty-physical-health-officer-sa
 fety
SUMMARY:Fit for Duty: Physical Health for Officer Safety
CLASS:PUBLIC
DESCRIPTION:Learn more about this event: https://www.bja.ojp.gov/events/fit
 -duty-physical-health-officer-safety
DTSTAMP:20260423T023925Z
END:VEVENT
END:VCALENDAR