BEGIN:VCALENDAR
VERSION:2.0
PRODID:-//Bureau of Justice Assistance//NONSGML Event Calendar//EN
BEGIN:VEVENT
UID:2241f9c1-a003-40a2-8aac-e30531c0a5ba
DTSTART;TZID=UTC:20220119T150000
SEQUENCE:0
TRANSP:OPAQUE
DTEND;TZID=UTC:20220119T200000
LOCATION:https://www.bja.ojp.gov/events/safleo-leadership-and-supervision-v
 irtual-training
SUMMARY:SAFLEO Leadership and Supervision Virtual Training
CLASS:PUBLIC
DESCRIPTION:Learn more about this event: https://www.bja.ojp.gov/events/saf
 leo-leadership-and-supervision-virtual-training
DTSTAMP:20260423T021652Z
END:VEVENT
END:VCALENDAR