BEGIN:VCALENDAR
VERSION:2.0
PRODID:-//Bureau of Justice Assistance//NONSGML Event Calendar//EN
BEGIN:VEVENT
UID:0b0f1264-711e-40cc-92d0-640c30638f1b
DTSTART;TZID=UTC:20220329T140000
SEQUENCE:0
TRANSP:OPAQUE
DTEND;TZID=UTC:20220329T190000
LOCATION:https://www.bja.ojp.gov/events/safleo-leadership-and-supervision-t
 raining
SUMMARY:SAFLEO Leadership and Supervision Training
CLASS:PUBLIC
DESCRIPTION:Learn more about this event: https://www.bja.ojp.gov/events/saf
 leo-leadership-and-supervision-training
DTSTAMP:20260423T021651Z
END:VEVENT
END:VCALENDAR