BEGIN:VCALENDAR
VERSION:2.0
PRODID:-//Bureau of Justice Assistance//NONSGML Event Calendar//EN
BEGIN:VEVENT
UID:d2f6edb7-7943-4116-aac6-4238e6104743
DTSTART;TZID=UTC:20220210T180000
SEQUENCE:0
TRANSP:OPAQUE
DTEND;TZID=UTC:20220210T193000
LOCATION:https://www.bja.ojp.gov/events/unique-approach-crime-gun-intellige
 nce-center-inclusion-and-support-3d-virtual-comparison
SUMMARY:A Unique Approach to a Crime Gun Intelligence Center with the Inclu
 sion and Support of 3D Virtual Comparison Technologies
CLASS:PUBLIC
DESCRIPTION:Learn more about this event: https://www.bja.ojp.gov/events/uni
 que-approach-crime-gun-intelligence-center-inclusion-and-support-3d-virtua
 l-comparison
DTSTAMP:20260422T201407Z
END:VEVENT
END:VCALENDAR