BEGIN:VCALENDAR
VERSION:2.0
PRODID:-//Bureau of Justice Assistance//NONSGML Event Calendar//EN
BEGIN:VEVENT
UID:f79116b7-81eb-46a7-844f-4c4afc71d683
DTSTART;TZID=UTC:20220223T150000
SEQUENCE:0
TRANSP:OPAQUE
DTEND;TZID=UTC:20220223T160000
LOCATION:https://www.bja.ojp.gov/events/state-and-local-anti-terrorism-trai
 ning-program-virtual-training-0
SUMMARY:State and Local Anti-Terrorism Training Program Virtual Training
CLASS:PUBLIC
DESCRIPTION:Learn more about this event: https://www.bja.ojp.gov/events/sta
 te-and-local-anti-terrorism-training-program-virtual-training-0
DTSTAMP:20260421T003422Z
END:VEVENT
END:VCALENDAR