BEGIN:VCALENDAR
VERSION:2.0
PRODID:-//Bureau of Justice Assistance//NONSGML Event Calendar//EN
BEGIN:VEVENT
UID:f1230ad6-7ce1-44d2-bf22-28ec22e043bf
DTSTART;TZID=UTC:20220216T180000
SEQUENCE:0
TRANSP:OPAQUE
DTEND;TZID=UTC:20220216T190000
LOCATION:https://www.bja.ojp.gov/events/state-and-local-anti-terrorism-trai
 ning-program-virtual-training
SUMMARY:State and Local Anti-Terrorism Training Program Virtual Training
CLASS:PUBLIC
DESCRIPTION:Learn more about this event: https://www.bja.ojp.gov/events/sta
 te-and-local-anti-terrorism-training-program-virtual-training
DTSTAMP:20260421T003423Z
END:VEVENT
END:VCALENDAR