BEGIN:VCALENDAR
VERSION:2.0
PRODID:-//Bureau of Justice Assistance//NONSGML Event Calendar//EN
BEGIN:VEVENT
UID:71bddeb3-1f62-4b76-b8e3-ecac0c86cdc0
DTSTART;TZID=UTC:20220224T190000
SEQUENCE:0
TRANSP:OPAQUE
DTEND;TZID=UTC:20220224T203000
LOCATION:https://www.bja.ojp.gov/events/case-management-first-responder-def
 lection
SUMMARY:Case Management for First Responder Deflection
CLASS:PUBLIC
DESCRIPTION:Learn more about this event: https://www.bja.ojp.gov/events/cas
 e-management-first-responder-deflection
DTSTAMP:20260421T003408Z
END:VEVENT
END:VCALENDAR