BEGIN:VCALENDAR
VERSION:2.0
PRODID:-//Bureau of Justice Assistance//NONSGML Event Calendar//EN
BEGIN:VEVENT
UID:de7a56b4-6efb-4d84-a572-9e7d85718041
DTSTART;TZID=UTC:20220323T180000
SEQUENCE:0
TRANSP:OPAQUE
DTEND;TZID=UTC:20220323T190000
LOCATION:https://www.bja.ojp.gov/events/federal-support-behavioral-health-a
 nd-justice-responses-best-practice-resources-and
SUMMARY:Federal Support for Behavioral Health and Justice Responses: Best P
 ractice\, Resources and Education
CLASS:PUBLIC
DESCRIPTION:Learn more about this event: https://www.bja.ojp.gov/events/fed
 eral-support-behavioral-health-and-justice-responses-best-practice-resourc
 es-and
DTSTAMP:20260420T231128Z
END:VEVENT
END:VCALENDAR