BEGIN:VCALENDAR
VERSION:2.0
PRODID:-//Bureau of Justice Assistance//NONSGML Event Calendar//EN
BEGIN:VEVENT
UID:6d91ebd1-46ca-44d9-b615-e580440803ef
DTSTART;TZID=UTC:20220331T170000
SEQUENCE:0
TRANSP:OPAQUE
DTEND;TZID=UTC:20220331T180000
LOCATION:https://www.bja.ojp.gov/events/bja-funding-and-resources-correctio
 ns-reentry-and-reform
SUMMARY:BJA Funding and Resources – Corrections\, Reentry\, and Reform
CLASS:PUBLIC
DESCRIPTION:Learn more about this event: https://www.bja.ojp.gov/events/bja
 -funding-and-resources-corrections-reentry-and-reform
DTSTAMP:20260422T212542Z
END:VEVENT
END:VCALENDAR