BEGIN:VCALENDAR
VERSION:2.0
PRODID:-//Bureau of Justice Assistance//NONSGML Event Calendar//EN
BEGIN:VEVENT
UID:b80e3c51-0db2-4b62-acd0-8ebe2d3285a6
DTSTART;TZID=UTC:20220310T203000
SEQUENCE:0
TRANSP:OPAQUE
DTEND;TZID=UTC:20220310T213000
LOCATION:https://www.bja.ojp.gov/events/bja-funding-and-resources-law-enfor
 cement
SUMMARY:BJA Funding and Resources for Law Enforcement
CLASS:PUBLIC
DESCRIPTION:Learn more about this event: https://www.bja.ojp.gov/events/bja
 -funding-and-resources-law-enforcement
DTSTAMP:20260420T231128Z
END:VEVENT
END:VCALENDAR