BEGIN:VCALENDAR
VERSION:2.0
PRODID:-//Bureau of Justice Assistance//NONSGML Event Calendar//EN
BEGIN:VEVENT
UID:6a9fecf7-fbaf-41d2-84ca-a0453b6a98af
DTSTART;VALUE=DATE:20220330
SEQUENCE:0
TRANSP:OPAQUE
DTEND;VALUE=DATE:20220402
LOCATION:https://www.bja.ojp.gov/events/forensic-genetic-genealogy-virtual-
 training
SUMMARY:Forensic Genetic Genealogy Virtual Training
CLASS:PUBLIC
DESCRIPTION:Learn more about this event: https://www.bja.ojp.gov/events/for
 ensic-genetic-genealogy-virtual-training
X-MICROSOFT-CDO-ALLDAYEVENT:TRUE
DTSTAMP:20260420T071528Z
END:VEVENT
END:VCALENDAR