BEGIN:VCALENDAR
VERSION:2.0
PRODID:-//Bureau of Justice Assistance//NONSGML Event Calendar//EN
BEGIN:VEVENT
UID:f9dc2aa1-ca1f-41c6-93dc-8cd5a119e7b2
DTSTART;TZID=UTC:20220427T190000
SEQUENCE:0
TRANSP:OPAQUE
DTEND;TZID=UTC:20220427T201500
LOCATION:https://www.bja.ojp.gov/events/building-effective-partnerships-con
 tinuums-care-increase-housing-options-people-leaving
SUMMARY:Building Effective Partnerships with Continuums of Care to Increase
  Housing Options for People Leaving Prisons and Jails
CLASS:PUBLIC
DESCRIPTION:Learn more about this event: https://www.bja.ojp.gov/events/bui
 lding-effective-partnerships-continuums-care-increase-housing-options-peop
 le-leaving
DTSTAMP:20260422T194054Z
END:VEVENT
END:VCALENDAR