BEGIN:VCALENDAR
VERSION:2.0
PRODID:-//Bureau of Justice Assistance//NONSGML Event Calendar//EN
BEGIN:VEVENT
UID:49287b7d-0a21-4701-8cce-c71da464c0ae
DTSTART;TZID=UTC:20220428T160000
SEQUENCE:0
TRANSP:OPAQUE
DTEND;TZID=UTC:20220428T171500
LOCATION:https://www.bja.ojp.gov/events/strengthening-your-reentry-program-
 evaluation-through-primary-data-collection
SUMMARY:Strengthening Your Reentry Program Evaluation through Primary Data 
 Collection
CLASS:PUBLIC
DESCRIPTION:Learn more about this event: https://www.bja.ojp.gov/events/str
 engthening-your-reentry-program-evaluation-through-primary-data-collection
DTSTAMP:20260420T052654Z
END:VEVENT
END:VCALENDAR