BEGIN:VCALENDAR
VERSION:2.0
PRODID:-//Bureau of Justice Assistance//NONSGML Event Calendar//EN
BEGIN:VEVENT
UID:68051ce7-76c7-401d-a8d1-bb068b7ec502
DTSTART;TZID=UTC:20220404T160000
SEQUENCE:0
TRANSP:OPAQUE
DTEND;TZID=UTC:20220404T171500
LOCATION:https://www.bja.ojp.gov/events/national-corrections-recidivism-sta
 tistics
SUMMARY:National Corrections & Recidivism Statistics
CLASS:PUBLIC
DESCRIPTION:Learn more about this event: https://www.bja.ojp.gov/events/nat
 ional-corrections-recidivism-statistics
DTSTAMP:20260422T212435Z
END:VEVENT
END:VCALENDAR