BEGIN:VCALENDAR
VERSION:2.0
PRODID:-//Bureau of Justice Assistance//NONSGML Event Calendar//EN
BEGIN:VEVENT
UID:a13837d6-1f02-4a2e-a129-998a826345d6
DTSTART;TZID=UTC:20220419T190000
SEQUENCE:0
TRANSP:OPAQUE
DTEND;TZID=UTC:20220419T203000
LOCATION:https://www.bja.ojp.gov/events/addressing-housing-needs-youth-retu
 rning-juvenile-justice-placement
SUMMARY:Addressing Housing Needs for Youth Returning from Juvenile Justice 
 Placement
CLASS:PUBLIC
DESCRIPTION:Learn more about this event: https://www.bja.ojp.gov/events/add
 ressing-housing-needs-youth-returning-juvenile-justice-placement
DTSTAMP:20260422T161910Z
END:VEVENT
END:VCALENDAR