BEGIN:VCALENDAR
VERSION:2.0
PRODID:-//Bureau of Justice Assistance//NONSGML Event Calendar//EN
BEGIN:VEVENT
UID:63533cc7-a813-4831-bfa6-982265e79f2b
DTSTART;TZID=UTC:20220324T180000
SEQUENCE:0
TRANSP:OPAQUE
DTEND;TZID=UTC:20220324T193000
LOCATION:https://www.bja.ojp.gov/events/effective-law-enforcement-strategie
 s-and-technology-support-successful-pre-arrest-deflection
SUMMARY:Effective Law Enforcement Strategies and Technology To Support Succ
 essful\, Pre-Arrest Deflection Programs
CLASS:PUBLIC
DESCRIPTION:Learn more about this event: https://www.bja.ojp.gov/events/eff
 ective-law-enforcement-strategies-and-technology-support-successful-pre-ar
 rest-deflection
DTSTAMP:20260423T021608Z
END:VEVENT
END:VCALENDAR