BEGIN:VCALENDAR
VERSION:2.0
PRODID:-//Bureau of Justice Assistance//NONSGML Event Calendar//EN
BEGIN:VEVENT
UID:15b2e966-331b-4adb-8186-d27097ddf502
DTSTART;VALUE=DATE:20220418
SEQUENCE:0
TRANSP:OPAQUE
DTEND;VALUE=DATE:20220422
LOCATION:https://www.bja.ojp.gov/events/rx-drug-abuse-heroin-summit
SUMMARY:Rx Drug Abuse & Heroin Summit
CLASS:PUBLIC
DESCRIPTION:Learn more about this event: https://www.bja.ojp.gov/events/rx-
 drug-abuse-heroin-summit
X-MICROSOFT-CDO-ALLDAYEVENT:TRUE
DTSTAMP:20260420T054029Z
END:VEVENT
END:VCALENDAR