BEGIN:VCALENDAR
VERSION:2.0
PRODID:-//Bureau of Justice Assistance//NONSGML Event Calendar//EN
BEGIN:VEVENT
UID:f5ed6dc4-8562-4474-865f-196d0c398c74
DTSTART;TZID=UTC:20220406T170000
SEQUENCE:0
TRANSP:OPAQUE
DTEND;TZID=UTC:20220406T180000
LOCATION:https://www.bja.ojp.gov/events/preventing-violence-against-law-enf
 orcement-officers-and-ensuring-officer-resilience-and
SUMMARY:Preventing Violence Against Law Enforcement Officers and Ensuring O
 fficer Resilience and Survivability (VALOR) Initiative
CLASS:PUBLIC
DESCRIPTION:Learn more about this event: https://www.bja.ojp.gov/events/pre
 venting-violence-against-law-enforcement-officers-and-ensuring-officer-res
 ilience-and
DTSTAMP:20260423T004354Z
END:VEVENT
END:VCALENDAR