BEGIN:VCALENDAR
VERSION:2.0
PRODID:-//Bureau of Justice Assistance//NONSGML Event Calendar//EN
BEGIN:VEVENT
UID:57299d2a-cb45-4ad2-9eab-e68ebdf1c4e5
DTSTART;TZID=UTC:20220407T170000
SEQUENCE:0
TRANSP:OPAQUE
DTEND;TZID=UTC:20220407T180000
LOCATION:https://www.bja.ojp.gov/events/emmett-till-cold-case-investigation
 s-and-prosecution-program
SUMMARY:Emmett Till Cold Case Investigations and Prosecution Program
CLASS:PUBLIC
DESCRIPTION:Learn more about this event: https://www.bja.ojp.gov/events/emm
 ett-till-cold-case-investigations-and-prosecution-program
DTSTAMP:20260420T011931Z
END:VEVENT
END:VCALENDAR