BEGIN:VCALENDAR
VERSION:2.0
PRODID:-//Bureau of Justice Assistance//NONSGML Event Calendar//EN
BEGIN:VEVENT
UID:4dea922e-59db-4410-83cd-2b8f35ea948d
DTSTART;TZID=UTC:20220428T180000
SEQUENCE:0
TRANSP:OPAQUE
DTEND;TZID=UTC:20220428T193000
LOCATION:https://www.bja.ojp.gov/events/policing-and-people-developmental-d
 isabilities-emerging-issues-field
SUMMARY:Policing and People with Developmental Disabilities: Emerging Issue
 s in the Field
CLASS:PUBLIC
DESCRIPTION:Learn more about this event: https://www.bja.ojp.gov/events/pol
 icing-and-people-developmental-disabilities-emerging-issues-field
DTSTAMP:20260423T021651Z
END:VEVENT
END:VCALENDAR