BEGIN:VCALENDAR
VERSION:2.0
PRODID:-//Bureau of Justice Assistance//NONSGML Event Calendar//EN
BEGIN:VEVENT
UID:7400d84b-9af4-4aab-8c4e-7bc8c6471f61
DTSTART;TZID=UTC:20220413T170000
SEQUENCE:0
TRANSP:OPAQUE
DTEND;TZID=UTC:20220413T180000
LOCATION:https://www.bja.ojp.gov/events/kevin-and-avonte-program-reducing-i
 njury-and-death-missing-individuals-dementia-and
SUMMARY:The Kevin and Avonte Program: Reducing Injury and Death of Missing 
 Individuals with Dementia and Developmental Disabilities
CLASS:PUBLIC
DESCRIPTION:Learn more about this event: https://www.bja.ojp.gov/events/kev
 in-and-avonte-program-reducing-injury-and-death-missing-individuals-dement
 ia-and
DTSTAMP:20260422T225916Z
END:VEVENT
END:VCALENDAR