BEGIN:VCALENDAR
VERSION:2.0
PRODID:-//Bureau of Justice Assistance//NONSGML Event Calendar//EN
BEGIN:VEVENT
UID:38194bf3-85e7-42ab-a15b-b7331a0a1ece
DTSTART;TZID=UTC:20220504T190000
SEQUENCE:0
TRANSP:OPAQUE
DTEND;TZID=UTC:20220504T200000
LOCATION:https://www.bja.ojp.gov/events/responding-2022-solicitation-second
 -chance-act-pay-success-initiative
SUMMARY:Responding to the 2022 Solicitation for Second Chance Act Pay for S
 uccess Initiative
CLASS:PUBLIC
DESCRIPTION:Learn more about this event: https://www.bja.ojp.gov/events/res
 ponding-2022-solicitation-second-chance-act-pay-success-initiative
DTSTAMP:20260422T193950Z
END:VEVENT
END:VCALENDAR