BEGIN:VCALENDAR
VERSION:2.0
PRODID:-//Bureau of Justice Assistance//NONSGML Event Calendar//EN
BEGIN:VEVENT
UID:64ced710-6e86-4c80-a2f1-b226fb31be01
DTSTART;TZID=UTC:20220606T170000
SEQUENCE:0
TRANSP:OPAQUE
DTEND;TZID=UTC:20220609T214500
LOCATION:https://www.bja.ojp.gov/events/2022-tribal-justice-safety-and-well
 ness-summit
SUMMARY:2022 Tribal Justice\, Safety and Wellness Summit
CLASS:PUBLIC
DESCRIPTION:Learn more about this event: https://www.bja.ojp.gov/events/202
 2-tribal-justice-safety-and-wellness-summit
DTSTAMP:20260422T224328Z
END:VEVENT
END:VCALENDAR