BEGIN:VCALENDAR
VERSION:2.0
PRODID:-//Bureau of Justice Assistance//NONSGML Event Calendar//EN
BEGIN:VEVENT
UID:b667be63-543f-49f2-8491-8c96aa4ab948
DTSTART;TZID=UTC:20220427T170000
SEQUENCE:0
TRANSP:OPAQUE
DTEND;TZID=UTC:20220427T183000
LOCATION:https://www.bja.ojp.gov/events/preparing-competitive-proposal-fy-2
 022-adult-drug-court-discretionary-grant-program
SUMMARY:Preparing a Competitive Proposal: FY 2022 Adult Drug Court Discreti
 onary Grant Program
CLASS:PUBLIC
DESCRIPTION:Learn more about this event: https://www.bja.ojp.gov/events/pre
 paring-competitive-proposal-fy-2022-adult-drug-court-discretionary-grant-p
 rogram
DTSTAMP:20260423T004302Z
END:VEVENT
END:VCALENDAR