BEGIN:VCALENDAR
VERSION:2.0
PRODID:-//Bureau of Justice Assistance//NONSGML Event Calendar//EN
BEGIN:VEVENT
UID:4e67b695-74a9-43df-af8a-83b95020d771
DTSTART;TZID=UTC:20220504T190000
SEQUENCE:0
TRANSP:OPAQUE
DTEND;TZID=UTC:20220504T200000
LOCATION:https://www.bja.ojp.gov/events/fy-2022-residential-substance-abuse
 -treatment-rsat-state-prisoners-training-and-technical
SUMMARY:FY 2022 Residential Substance Abuse Treatment (RSAT) for State Pris
 oners Training and Technical Assistance Program
CLASS:PUBLIC
DESCRIPTION:Learn more about this event: https://www.bja.ojp.gov/events/fy-
 2022-residential-substance-abuse-treatment-rsat-state-prisoners-training-a
 nd-technical
DTSTAMP:20260422T183133Z
END:VEVENT
END:VCALENDAR